BEGIN:VCALENDAR
VERSION:2.0
PRODID:-//ChamberMaster//Event Calendar 2.0//EN
METHOD:PUBLISH
X-PUBLISHED-TTL:P3D
REFRESH-INTERVAL:P3D
CALSCALE:GREGORIAN
BEGIN:VEVENT
DTSTART:20130112T160000Z
DTEND:20130113T000000Z
X-MICROSOFT-CDO-ALLDAYEVENT:FALSE
SUMMARY:Parner Membership Program Open House
DESCRIPTION:We invite you to experience the value of membership during this event exclusively for our Partner Membership Program participants. \n\n\n\nJoin us for the open house\, where non-members can shop with no upcharge - one day only!  Become a  new member during the event and receive a Sam's Club shopping tote\, in addition to the Sam's Club Gift card through your PMP offer.
X-ALT-DESC;FMTTYPE=text/html:We invite you to experience the value of membership during this event exclusively for our Partner Membership Program participants.&nbsp\;<br />\n<br />\nJoin us for the open house\, where non-members can shop with no upcharge - one day only!&nbsp\; Become a&nbsp\; new member during the event and receive a Sam&#39\;s Club shopping tote\, in addition to the Sam&#39\;s Club Gift card through your PMP offer.
LOCATION:Apple Valley Sam's Club\, 14940 Florence Trail\, Apple Valley\, MN 55124
UID:e.61.422
SEQUENCE:3
DTSTAMP:20260424T000826Z
URL:http://applevalleychamber.chambermaster.com/events/details/parner-membership-program-open-house-01-12-2013-422
END:VEVENT

END:VCALENDAR
